BEGIN:VCALENDAR
VERSION:2.0
PRODID:hands-on-introducao-ao-cad-cam-em-restauracoes-unitarias-anteriores-
 aderidas-lisboa
BEGIN:VEVENT
UID:69e4cf16ef583
DTSTART;TZID=Europe/Lisbon:20170909T080000
SEQUENCE:0
TRANSP:OPAQUE
DTEND;TZID=Europe/Lisbon:20170909T170000
URL:https://www.omd.pt/formacao/cursos/hands-on-introducao-ao-cad-cam-em-re
 stauracoes-unitarias-anteriores-aderidas-lisboa/
LOCATION:Lisboa
SUMMARY:Hands-on: Introdução ao CAD/CAM em restaurações unitárias ante
 riores aderidas (Lisboa)
CLASS:PUBLIC
DESCRIPTION:Curso hands-on CAD/ CAM do Centro de Formação Contínua da Or
 dem dos Médicos Dentistas\, ministrado por João Falcão\, em Lisboa\, a 
 9 de setembro de 2017
ORGANIZER;CN=OMD:MAILTO:formacao@omd.pt
DTSTAMP:20260419T124822Z
END:VEVENT
END:VCALENDAR