BEGIN:VCALENDAR
VERSION:2.0
PRODID:curso-de-suporte-basico-de-vida-desfibrilhacao-automatica-externa-co
 imbra
BEGIN:VEVENT
UID:69e6334583278
DTSTART;TZID=Europe/Lisbon:20170603T083000
SEQUENCE:0
TRANSP:OPAQUE
DTEND;TZID=Europe/Lisbon:20170603T160000
URL:https://www.omd.pt/formacao/cursos/curso-de-suporte-basico-de-vida-desf
 ibrilhacao-automatica-externa-coimbra/
LOCATION:Coimbra
SUMMARY:Curso de suporte básico de vida / Desfibrilhação automática ext
 erna (Coimbra)
CLASS:PUBLIC
DESCRIPTION:Curso do Centro de Formação Contínua da Ordem dos Médicos D
 entistas e Escola de Socorrismo da Cruz Vermelha Portuguesa\, ministrado e
 m Coimbra\, a 3 de junho de 2017
ORGANIZER;CN=OMD:MAILTO:formacao@omd.pt
DTSTAMP:20260420T140805Z
END:VEVENT
END:VCALENDAR