BEGIN:VCALENDAR
VERSION:2.0
PRODID:curso-para-assistentes-dentarios-presencial
BEGIN:VEVENT
UID:69e631d10f2b0
DTSTART;TZID=Europe/Lisbon:20241123T090000
SEQUENCE:0
TRANSP:OPAQUE
DTEND;TZID=Europe/Lisbon:20241123T190000
URL:https://www.omd.pt/congresso/2024/cursos/assistentes-presencial/
LOCATION:Lisboa
SUMMARY:Curso para assistentes dentários (presencial)
CLASS:PUBLIC
DESCRIPTION:Curso presencial para assistentes dentários no 33º Congresso 
 da Ordem dos Médicos Dentistas.
ORGANIZER;CN=OMD:MAILTO:formacao@omd.pt
DTSTAMP:20260420T140153Z
END:VEVENT
END:VCALENDAR