BEGIN:VCALENDAR
VERSION:2.0
PRODID:curso-para-assistentes-dentarios-online
BEGIN:VEVENT
UID:69e62d9b37f33
DTSTART;TZID=Europe/Lisbon:20241123T090000
SEQUENCE:0
TRANSP:OPAQUE
DTEND;TZID=Europe/Lisbon:20241123T190000
URL:https://www.omd.pt/congresso/2024/cursos/assistentes-online/
SUMMARY:Curso para assistentes dentários (online)
CLASS:PUBLIC
DESCRIPTION:Curso online para assistentes dentários no 33º Congresso da O
 rdem dos Médicos Dentistas.
ORGANIZER;CN=OMD:MAILTO:formacao@omd.pt
DTSTAMP:20260420T134355Z
END:VEVENT
END:VCALENDAR