BEGIN:VCALENDAR
VERSION:2.0
PRODID:curso-para-assistentes-dentarios-presencial
BEGIN:VEVENT
UID:69ea02b3479a0
DTSTART;TZID=Europe/Lisbon:20231111T090000
SEQUENCE:0
TRANSP:OPAQUE
DTEND;TZID=Europe/Lisbon:20231111T190000
URL:https://www.omd.pt/congresso/2023/cursos/assistentes-presencial/
LOCATION:Matosinhos
SUMMARY:Curso para assistentes dentários (presencial)
CLASS:PUBLIC
DESCRIPTION:Curso presencial para assistentes dentários no 32º Congresso 
 da Ordem dos Médicos Dentistas.
ORGANIZER;CN=OMD:MAILTO:formacao@omd.pt
DTSTAMP:20260423T112955Z
END:VEVENT
END:VCALENDAR