BEGIN:VCALENDAR
VERSION:2.0
PRODID:hands-on-reconstrucao-ossea-materiais-e-protocolos-manha
BEGIN:VEVENT
UID:69e55a75980b1
DTSTART;TZID=Europe/Lisbon:20221119T093000
SEQUENCE:0
TRANSP:OPAQUE
DTEND;TZID=Europe/Lisbon:20221119T130000
URL:https://www.omd.pt/congresso/2022/cursos/handson-20221119m-reconstrucao
 /
LOCATION:Lisboa
SUMMARY:Hands-on reconstrução óssea\, materiais e protocolos (manhã)
CLASS:PUBLIC
DESCRIPTION:Curso hands-on \"Reconstrução óssea\, materiais e protocolos
 \" (edição manhã) ministrado por Fernando Duarte a 19 de novembro de 20
 22.
ORGANIZER;CN=OMD:MAILTO:formacao@omd.pt
DTSTAMP:20260419T224301Z
END:VEVENT
END:VCALENDAR